BEGIN:VCALENDAR
VERSION:2.0
PRODID:-//Utrecht in Dialoog - ECPv6.15.20//NONSGML v1.0//EN
CALSCALE:GREGORIAN
METHOD:PUBLISH
X-ORIGINAL-URL:https://www.utrechtindialoog.nl
X-WR-CALDESC:Evenementen voor Utrecht in Dialoog
REFRESH-INTERVAL;VALUE=DURATION:PT1H
X-Robots-Tag:noindex
X-PUBLISHED-TTL:PT1H
BEGIN:VTIMEZONE
TZID:Europe/Paris
BEGIN:DAYLIGHT
TZOFFSETFROM:+0100
TZOFFSETTO:+0200
TZNAME:CEST
DTSTART:20210328T010000
END:DAYLIGHT
BEGIN:STANDARD
TZOFFSETFROM:+0200
TZOFFSETTO:+0100
TZNAME:CET
DTSTART:20211031T010000
END:STANDARD
BEGIN:DAYLIGHT
TZOFFSETFROM:+0100
TZOFFSETTO:+0200
TZNAME:CEST
DTSTART:20220327T010000
END:DAYLIGHT
BEGIN:STANDARD
TZOFFSETFROM:+0200
TZOFFSETTO:+0100
TZNAME:CET
DTSTART:20221030T010000
END:STANDARD
BEGIN:DAYLIGHT
TZOFFSETFROM:+0100
TZOFFSETTO:+0200
TZNAME:CEST
DTSTART:20230326T010000
END:DAYLIGHT
BEGIN:STANDARD
TZOFFSETFROM:+0200
TZOFFSETTO:+0100
TZNAME:CET
DTSTART:20231029T010000
END:STANDARD
END:VTIMEZONE
BEGIN:VEVENT
DTSTART;TZID=Europe/Paris:20220112T190000
DTEND;TZID=Europe/Paris:20220112T220000
DTSTAMP:20260420T030630
CREATED:20180515T052631Z
LAST-MODIFIED:20250709T110600Z
UID:10000686-1642014000-1642024800@www.utrechtindialoog.nl
SUMMARY:Bijeenkomst Inclusieve Democratie
DESCRIPTION:De gemeenteraadsverkiezingen komen er aan. Wil jij  hierover in je wijk op een andere manier met elkaar in gesprek? Een gesprek waar iedereen welkom is\, dat kijkt naar gemeenschappelijke wensen en kansen in plaats van tegenstrijdige meningen? \nIn 2022 willen we experimenteren met de dialoog als democratisch instrument. Om verschillende perspectieven bij elkaar te brengen\, om het praten over beleid en politiek breed toegankelijk te maken\, en om samen vorm te geven aan het Utrecht van de toekomst. \nEn daar zoeken we partners voor. Mensen en organisaties die hier graag aan bijdragen. De opbrengst van al deze gesprekken brengen we samen in een ‘product’ (kunstwerk\, publicatie\, …) dat wij\, met alle partners die hebben bijgedragen\, in het najaar overhandigen aan de gemeenteraad. Het doel is ook dat uit de collectief geformuleerde wensen nieuwe initiatieven\, verbindingen en manieren van doen ontstaan binnen de wijken. \nNaar een inclusieve wijkdemocratie\nIn deze bijeenkomst\, begeleid door ervaren trainer Francisca Frenks\, staan we stil bij de rol van dialogen in democratische vernieuwing\, het samenspel tussen bewoners(initiatieven)\, wijk coöperaties\, sociaal ondernemers\, zorg\, onderwijs\, welzijn en overheid. Het is ook een bijeenkomst waar we al concrete plannen  maken met elkaar. \nWe gaan in op de volgende vragen: \n\nOp welke manier en over welke vraagstukken kunnen we beter samenwerken?\nWat kan de waarderende dialoog hierin betekenen?\nHoe zorgen we dat meepraten en meedoen toegankelijk is en aanspreekt?\nOp welke manieren kunnen burgers politieke invloed hebben? Hoe gaan we de resultaten van de dialogen delen en met wie?\n\nDe verdiepingsworkshops is bedoeld voor bewoners en organisaties die sterke gemeenschappen willen bouwen\, met hun droom voor de wijk/buurt aan de slag willen/gaan\, of het meepraten over politiek toegankelijker en inclusiever willen maken. We werken en leren volgens de principes van de waarderende wijkdialoog op basis van eigen praktijkervaringen. We leren van wat wel werkt\, laten ons verrassen door verschillende perspectieven\, en maken plannen met elkaar. \nProgramma\n19:00 Welkom en kennismaking\n19:30 Introductie Inclusieve democratie\n20:00 Ervaringen delen uit verschillende wijken\n20:30 Aan de slag: ontwerpen\, voorbereiden\, stappenplan\, vormgeven (in groepen)\n21:30 Opbrengsten delen en vervolgstappen\n22:00 Afsluiting \nSterke gemeenschappen bouwen\nOp verschillende steden\, wijken\, buurten en dorpen bouwen mensen sterke gemeenschappen met zorg voor elkaar\, meer zeggenschap en eigenaarschap van wijkbewoners. In buurthuizen\, dagopvang\, voedseltuinen\, praktisch hulp\, ontmoeting\, zorg\, werken\, leren\, wijkinformatie\, zingeving en meer. \nIn Utrecht bouwen we al lerend met elkaar aan sterke gemeenschappen in wijkdialogen met verschillende doelen en op verschillende niveau’s. Zo organiseren we bijvoorbeeld wijkdialogen in Noordoost\, Oost\, Lunetten en Leidsche Rijn. \nOver de trainer\nFrancisca Frenks is expert in online samenwerken en online dialoog sinds 2008. Ze ontwerpt\, faciliteert en host online en interactieve programma’s en online dialogen met klanten. Ze geeft workshops en trainingen op dit gebied. Ze experimenteert graag met online vormen van burgerparticipatie en is goed in het begeleiden van online groepsprocessen. Ze heeft gewerkt voor diverse Ministeries\, waar onder Buitenlandse Zaken\, CBS\, Kamer van Koophandel\, UWV\, Hogeschool Saxion en meer. \nMeer\nSamen recht doen aan gemeenschapskracht\nWaarderende dialoogmethodiek\nLeergang Wijkdialoog gemeenschapskracht\nDialoogtafel organiseren\nDialoogtafel begeleiden
URL:https://www.utrechtindialoog.nl/bijeenkomsten/workshop-inclusieve-wijkdemocratie/
LOCATION:Online\, Nederland
CATEGORIES:Agenda dialoog organiseren,Dialoogbijeenkomsten,Trainingen en workshops
GEO:39.9613759;-105.5108312
END:VEVENT
END:VCALENDAR