BEGIN:VCALENDAR
VERSION:2.0
PRODID:-//Utrecht in Dialoog - ECPv6.15.20//NONSGML v1.0//EN
CALSCALE:GREGORIAN
METHOD:PUBLISH
X-WR-CALNAME:Utrecht in Dialoog
X-ORIGINAL-URL:https://www.utrechtindialoog.nl
X-WR-CALDESC:Evenementen voor Utrecht in Dialoog
REFRESH-INTERVAL;VALUE=DURATION:PT1H
X-Robots-Tag:noindex
X-PUBLISHED-TTL:PT1H
BEGIN:VTIMEZONE
TZID:Europe/Amsterdam
BEGIN:DAYLIGHT
TZOFFSETFROM:+0100
TZOFFSETTO:+0200
TZNAME:CEST
DTSTART:20250330T010000
END:DAYLIGHT
BEGIN:STANDARD
TZOFFSETFROM:+0200
TZOFFSETTO:+0100
TZNAME:CET
DTSTART:20251026T010000
END:STANDARD
BEGIN:DAYLIGHT
TZOFFSETFROM:+0100
TZOFFSETTO:+0200
TZNAME:CEST
DTSTART:20260329T010000
END:DAYLIGHT
BEGIN:STANDARD
TZOFFSETFROM:+0200
TZOFFSETTO:+0100
TZNAME:CET
DTSTART:20261025T010000
END:STANDARD
BEGIN:DAYLIGHT
TZOFFSETFROM:+0100
TZOFFSETTO:+0200
TZNAME:CEST
DTSTART:20270328T010000
END:DAYLIGHT
BEGIN:STANDARD
TZOFFSETFROM:+0200
TZOFFSETTO:+0100
TZNAME:CET
DTSTART:20271031T010000
END:STANDARD
END:VTIMEZONE
BEGIN:VEVENT
DTSTART;TZID=Europe/Amsterdam:20261019T120000
DTEND;TZID=Europe/Amsterdam:20261019T140000
DTSTAMP:20260420T233210
CREATED:20260205T104450Z
LAST-MODIFIED:20260213T121511Z
UID:10000973-1792411200-1792418400@www.utrechtindialoog.nl
SUMMARY:Soepdialoog: Moeilijkheden overwinnen - als alles in de soep loopt
DESCRIPTION:Heb jij ook weleens het gevoel\, dat alles in de soep loopt? Hoe overwin jij moeilijkheden\, als alles tegenzit? Of ga jij liever bij de pakken neerzitten en laat je anderen de moeilijkheden oplossen? Is moeilijkheden overwinnen een levenskunst? Als je echt moeilijkheden hebt overwonnen\, heeft het je dan weerbaarder gemaakt? Hoor eens waar anderen mee zitten te worstelen\, je bent niet de enige! \nKom hierover meepraten tijdens onze Soepdialogen: geniet van de heerlijke soep van SOPA terwijl we ondertussen een mooi gesprek met elkaar hebben! \nDeelname is gratis\, meld je wel even aan via de rode knop hierboven. \n  \nAlle Soepdialogen:\n\nSoepdialoog 30 maart: Thuis voelen in je wijk – De smaak van thuis\nSoepdialoog 15 juni: Omgaan met verschillen – Jouw soep\, mijn soep\nSoepdialoog 19 oktober: Moeilijkheden overwinnen – Als alles in de soep loopt\nSoepdialoog 16 november: Soep en Dialoogworkshop – Smaakt het naar meer?
URL:https://www.utrechtindialoog.nl/bijeenkomsten/soepdialoog-moeilijkheden-overwinnen-als-alles-in-de-soep-loopt/
LOCATION:Buurtcentrum De Weide Wereld\, Teunisbloemlaan 50\, Vleuten\, 3452 CB\, Nederland
CATEGORIES:Dialoogbijeenkomsten
END:VEVENT
BEGIN:VEVENT
DTSTART;TZID=Europe/Amsterdam:20261111T190000
DTEND;TZID=Europe/Amsterdam:20261111T213000
DTSTAMP:20260420T233210
CREATED:20251120T123323Z
LAST-MODIFIED:20260121T155043Z
UID:10000968-1794423600-1794432600@www.utrechtindialoog.nl
SUMMARY:Dialooghuis: Zoals verwacht\, ging alles anders
DESCRIPTION:Laagdrempelig\, gezellig en diepgaand. Het Dialooghuis is een open dialoogavond voor iedereen. Laat je verrassen en inspireren door nieuwe ontmoetingen en persoonlijke verhalen.\n\nBen je benieuwd naar wat dialoog is? Of wil je graag eens in gesprek over een thema wat je eigenlijk best wel spannend vindt? De dialoog geeft een veilige en respectvolle omgeving om op een waarderende onderzoekende manier met elkaar te delen en te luisteren. \nEcht luisteren naar elkaar om te begrijpen\, niet om te overtuigen. \nIedereen is welkom\nFoto © 2023 Joris Louwes \nElke tweede woensdag van de maand is dit de ontmoetingsplek voor stadsgenoten. Jong en oud. We gaan in kleine groepjes samen het gesprek aan over een thema. Dit doen we in de vorm van een dialoog. Een getrainde begeleider begeleidt het gesprek. In een dialoog delen we onze ervaringen en luisteren we naar elkaar met respect en zonder oordeel. We doen ons best om elkaar beter te begrijpen. We laten elkaar uitpraten en stellen vragen. Zo ontdekken we wat iedereen belangrijk vindt. En door het horen van alle verschillende ervaringen\, worden we samen een stukje wijzer. Als je door de bril van 8 anderen hebt gekeken\, ga je als rijker mens naar huis. \nMoeilijke thema’s bespreekbaar maken\nHet Dialooghuis is de plaats om ook te oefenen hoe je moeilijke thema’s bespreekbaar kunt maken. Voor dialoogbegeleiders is het daarom ook een plek waar ze ervaring opdoen\, gespreksthema’s onderzoeken of uitproberen\, een nieuwe dialoogopzet uitproberen en in dialoogvorm brainstormen over een idee. \nWanneer en waar\nIedere tweede woensdagavond van de maand is er een Dialooghuis in Grytte\, Maliebaan 45 Utrecht. \nProgramma\n19:00  inloop met koffie\n19:30  kennismaking en inleiding\n20:00  in kleine groepen in dialoog\n21:30  informeel napraten\n21:45  afronding \nThema: Zoals verwacht\, ging alles anders\nAanmelden\nIedereen is welkom en meedoen is gratis. Meld je wel even aan via de registratieknop bovenaan de pagina. \nDankzij subsidies en inzet van vrijwilligers kunnen we deze activiteit voor iedereen gratis mogelijk maken. We maken natuurlijk wel wat kosten voor de koffie/thee en organisatie. Daarvoor is een vrije gift\, hoe klein dan ook\, altijd van harte welkom. Er is een fooienpot en QR-code aanwezig tijdens de avond. \nVragen?\n\nHeb je nog vragen? Neem dan even contact op met Lisa: \n\n\nLisa Minère\nProjectleider Dialooghuis\nlisa@utrechtindialoog.nl
URL:https://www.utrechtindialoog.nl/bijeenkomsten/dialooghuis-41/
LOCATION:Grytte\, Maliebaan 45\, Utrecht\, 3581CD
CATEGORIES:Dialoogbijeenkomsten
GEO:52.0903636;5.1328686
X-APPLE-STRUCTURED-LOCATION;VALUE=URI;X-ADDRESS=Grytte Maliebaan 45 Utrecht 3581CD;X-APPLE-RADIUS=500;X-TITLE=Maliebaan 45:geo:5.1328686,52.0903636
END:VEVENT
BEGIN:VEVENT
DTSTART;TZID=Europe/Amsterdam:20261116T120000
DTEND;TZID=Europe/Amsterdam:20261116T140000
DTSTAMP:20260420T233210
CREATED:20260205T104631Z
LAST-MODIFIED:20260205T110622Z
UID:10000974-1794830400-1794837600@www.utrechtindialoog.nl
SUMMARY:Soepdialoog: Soep en Dialoogworkshop – smaakt het naar meer?
DESCRIPTION:Dit is de afsluitende dialoogbijeenkomst van het jaar 2026. Daarin evalueren we met dialoogbezoekers samen hoe het was om deze dialogen te doen in De Weide Wereld (wat werkt) en kijken vooruit: waar ligt de wens en droom voor de toekomst? (waar willen we meer van?). \nDeze keer zal er een kleine workshopvorm zijn\, waarin we ook nog een leuke oefening doen met verdiepend luisteren. \n  \nDeelname is gratis\, meld je wel even aan via de rode knop hierboven. \n\nAlle Soepdialogen:\n\nSoepdialoog 30 maart: Thuis voelen in je wijk – De smaak van thuis\nSoepdialoog 15 juni: Omgaan met verschillen – Jouw soep\, mijn soep\nSoepdialoog 19 oktober: Moeilijkheden overwinnen – Als alles in de soep loopt\nSoepdialoog 16 november: Soep en Dialoogworkshop – Smaakt het naar meer?
URL:https://www.utrechtindialoog.nl/bijeenkomsten/soepdialoog-soep-en-dialoogworkshop-smaakt-het-naar-meer/
LOCATION:Buurtcentrum De Weide Wereld\, Teunisbloemlaan 50\, Vleuten\, 3452 CB\, Nederland
CATEGORIES:Dialoogbijeenkomsten
END:VEVENT
BEGIN:VEVENT
DTSTART;TZID=Europe/Amsterdam:20261126T190000
DTEND;TZID=Europe/Amsterdam:20261126T220000
DTSTAMP:20260420T233210
CREATED:20251113T094735Z
LAST-MODIFIED:20260212T163626Z
UID:10000953-1795719600-1795730400@www.utrechtindialoog.nl
SUMMARY:Basistraining Dialoog begeleiden
DESCRIPTION:Wil je zelf dialogen leren begeleiden? Meer weten over de waarderende dialoogmethodiek\, de opbouw van een dialoogbijeenkomst\, de fasen van een gesprek en oefenen met het begeleiden van dialooggroepen? Schrijf je dan in voor deze basistraining dialoog begeleiden. Meld je aan via de rode knop. \nLeergang Dialoog begeleiden\nDe basistraining is het begin van een volledige leergang. Echt begeleiden leer je namelijk pas in de praktijk. Door je in te schrijven voor de basistraining heb je de mogelijkheid om zoveel uit de leergang te halen als je zelf wilt. Je kunt kiezen voor alleen de basistraining\, of deze aanvullen met de extra onderdelen om meer ervaring op te doen.\nDit zijn de onderdelen die daar allemaal bij horen: \nStap 1: Ervaar een dialoog als deelnemer\nWe stimuleren je graag om voorafgaand aan de training een keer een dialoog bij te wonen als deelnemer. Kijk in onze agenda voor de dialogen die we in de stad organiseren en schuif gerust aan! \nStap 2: Theoretische voorbereiding\nVoorafgaand aan de training ontvang je een link naar de online leeromgeving met drie theoriefilmpjes en een handboek. Deze lees je door ter voorbereiding op de training. In de instructievideo’s komen de volgende zaken aan bod: \n\nBasisprincipes van de waarderende dialoogmethode\nRol en vaardigheden van de dialoogbegeleider\nDe fasen van een dialoog\n\nStap 3: De Basistraining\nJe belangrijkste theorie heb je al tot je genomen in de voorbereiding.\nTijdens de trainingsavond gaan we vooral oefenen. Dit is wat je gaat leren: \n\nJe leert hoe je een veilige gespreksomgeving kunt maken\nJe maakt in twee oefeningen kennis met luister- en vraagtechnieken\nJe leert de structuur van een dialoog\nJe oefent met de rol van begeleider in een simulatie\nWe ronden af met ‘Intervenieren’: Wat doe je als…?\n\nNa de training heb je kennis gemaakt met de basisprincipes van de waarderende dialoogmethodiek\, begrijp je wat jouw rol als begeleider inhoudt en heb je voldoende handvatten om groepen te gaan begeleiden. \nStap 4: Oefenen in de praktijk\n\n \nPhoto © 2025 Joris Louwes \nDocumentair – Evenementen – Straat – Portret \n\nUtrecht in Dialoog \n\nNa de basistraining kun je ervoor kiezen om het geleerde toe te passen in de praktijk als ‘snuffelbegeleider’. Je wordt dan gekoppeld aan een ervaren begeleider\, waarmee je samen dialogen kunt begeleiden. Ook mag je in deze praktijkperiode kosteloos deelnemen aan alle aangeboden leeractiviteiten bij Utrecht in Dialoog. Zoals intervisies\, workshops en het maandelijkse dialooghuis. Tijdens deze periode oefen je en verzamel je feedback. \nStap 5: De Verdiepingstraining\nNa de periode van oefenen sluit je de leergang af met de verdiepingstraining. Deze wordt 2x per jaar georganiseerd. We reflecteren samen op onze ervaringen in de praktijk. Na volledige afronding van de de basistraining\, het begeleiden van ten minste twee dialogen in de praktijk en deelname aan de verdiepingstraining\, ontvang jij jouw certificaat als Dialoogbegeleider (Practitioner). Kijk in de trainingsagenda voor de eerstvolgende verdiepingstraining. \nKosten\n\n250 euro voor deelnemers vanuit een organisatie\n125 euro voor particuliere deelnemers\n15 euro voor studenten of U-pashouders\nGratis voor vaste vrijwilligers van Utrecht in Dialoog.\nZijn de kosten een drempel voor je? Per training hebben we twee vrijkaarten beschikbaar.\nNeem daarvoor even contact op met trainingen@utrechtindialoog.nl.\n\nWat zit er allemaal inbegrepen bij deze kosten? \n\nToegang tot online lesmateriaal waarderende dialoogmethodiek;\nBasistraining incl. certificaat van deelname;\nMogelijkheden om na de training als snuffelbegeleider in de praktijk te oefenen samen met ervaren begeleiders;\nVerdiepingstraining incl. certificaat practitioner.\n\nGraag bij inschrijving vooraf de bijdrage overmaken op NL43 INGB 0007 6336 31 t.n.v. Stichting Utrecht in Dialoog o.v.v. ‘Basistraining dialoog begeleiden’. Zodra jouw bijdrage ontvangen is\, is jouw inschrijving definitief. \nProgramma \n19:00 Inloop\n19:15 Kennismaking\n19:30 Introductie dialoogvaardigheden\n20:30 Dialoogsimulatie\n21:30 Reflectie en vragen\n21:45 Afsluiting \nBen je verhinderd?\nGeef het op tijd door via trainingen@utrechtindialoog.nl.\nAls je je aanmeldt\, rekenen we op jouw komst. \n\nBij afmeldingen tot uiterlijk 1 week voor de training ontvang je jouw bijdrage retour.\nBinnen 1 week voor aanmelding ontvang je 50% van de bijdrage retour.\nAls je niet aanwezig bent en we hebben geen schriftelijke afmelding ontvangen\, kunnen we jouw bijdrage helaas niet teruggeven. Je kunt wel iemand anders in jouw plaats laten gaan.\n\nDe training is met maximaal 12 deelnemers. \nWie zijn de trainers\nDe training wordt verzorgd door ervaren dialoogbegeleiders en trainers die verbonden zijn aan Utrecht in Dialoog. Mensen met passie voor dialoog en brede ervaring in het luisteren\, begeleiden van dialogen en het verzorgen van trainingen voor Utrecht in Dialoog. \nVragen\nHeb je nog vragen? Neem dan even contact op met Dorine: \nDorine Leenman-Pellegrom\nChief Listening Officer (CLO)\ntrainingen@utrechtindialoog.nl
URL:https://www.utrechtindialoog.nl/bijeenkomsten/basistraining-dialoog-begeleiden-20/
LOCATION:Grytte\, Maliebaan 45\, Utrecht\, 3581CD
CATEGORIES:Trainingen en workshops
GEO:52.0903636;5.1328686
X-APPLE-STRUCTURED-LOCATION;VALUE=URI;X-ADDRESS=Grytte Maliebaan 45 Utrecht 3581CD;X-APPLE-RADIUS=500;X-TITLE=Maliebaan 45:geo:5.1328686,52.0903636
END:VEVENT
BEGIN:VEVENT
DTSTART;TZID=Europe/Amsterdam:20261209T190000
DTEND;TZID=Europe/Amsterdam:20261209T213000
DTSTAMP:20260420T233210
CREATED:20251120T123454Z
LAST-MODIFIED:20260121T155215Z
UID:10000969-1796842800-1796851800@www.utrechtindialoog.nl
SUMMARY:Dialooghuis: Samen lijden maakt lichter
DESCRIPTION:Laagdrempelig\, gezellig en diepgaand. Het Dialooghuis is een open dialoogavond voor iedereen. Laat je verrassen en inspireren door nieuwe ontmoetingen en persoonlijke verhalen.\n\nBen je benieuwd naar wat dialoog is? Of wil je graag eens in gesprek over een thema wat je eigenlijk best wel spannend vindt? De dialoog geeft een veilige en respectvolle omgeving om op een waarderende onderzoekende manier met elkaar te delen en te luisteren. \nEcht luisteren naar elkaar om te begrijpen\, niet om te overtuigen. \nIedereen is welkom\nFoto © 2023 Joris Louwes \nElke tweede woensdag van de maand is dit de ontmoetingsplek voor stadsgenoten. Jong en oud. We gaan in kleine groepjes samen het gesprek aan over een thema. Dit doen we in de vorm van een dialoog. Een getrainde begeleider begeleidt het gesprek. In een dialoog delen we onze ervaringen en luisteren we naar elkaar met respect en zonder oordeel. We doen ons best om elkaar beter te begrijpen. We laten elkaar uitpraten en stellen vragen. Zo ontdekken we wat iedereen belangrijk vindt. En door het horen van alle verschillende ervaringen\, worden we samen een stukje wijzer. Als je door de bril van 8 anderen hebt gekeken\, ga je als rijker mens naar huis. \nMoeilijke thema’s bespreekbaar maken\nHet Dialooghuis is de plaats om ook te oefenen hoe je moeilijke thema’s bespreekbaar kunt maken. Voor dialoogbegeleiders is het daarom ook een plek waar ze ervaring opdoen\, gespreksthema’s onderzoeken of uitproberen\, een nieuwe dialoogopzet uitproberen en in dialoogvorm brainstormen over een idee. \nWanneer en waar\nIedere tweede woensdagavond van de maand is er een Dialooghuis in Grytte\, Maliebaan 45 Utrecht. \nProgramma\n19:00  inloop met koffie\n19:30  kennismaking en inleiding\n20:00  in kleine groepen in dialoog\n21:30  informeel napraten\n21:45  afronding \nThema: Samen lijden maakt lichter\nAanmelden\nIedereen is welkom en meedoen is gratis. Meld je wel even aan via de registratieknop bovenaan de pagina. \nDankzij subsidies en inzet van vrijwilligers kunnen we deze activiteit voor iedereen gratis mogelijk maken. We maken natuurlijk wel wat kosten voor de koffie/thee en organisatie. Daarvoor is een vrije gift\, hoe klein dan ook\, altijd van harte welkom. Er is een fooienpot en QR-code aanwezig tijdens de avond. \nVragen?\n\nHeb je nog vragen? Neem dan even contact op met Lisa: \n\n\nLisa Minère\nProjectleider Dialooghuis\nlisa@utrechtindialoog.nl
URL:https://www.utrechtindialoog.nl/bijeenkomsten/dialooghuis-42/
LOCATION:Grytte\, Maliebaan 45\, Utrecht\, 3581CD
CATEGORIES:Dialoogbijeenkomsten
GEO:52.0903636;5.1328686
X-APPLE-STRUCTURED-LOCATION;VALUE=URI;X-ADDRESS=Grytte Maliebaan 45 Utrecht 3581CD;X-APPLE-RADIUS=500;X-TITLE=Maliebaan 45:geo:5.1328686,52.0903636
END:VEVENT
BEGIN:VEVENT
DTSTART;TZID=Europe/Amsterdam:20261214T190000
DTEND;TZID=Europe/Amsterdam:20261214T213000
DTSTAMP:20260420T233210
CREATED:20251120T112357Z
LAST-MODIFIED:20251120T112357Z
UID:10000957-1797274800-1797283800@www.utrechtindialoog.nl
SUMMARY:Verdiepingstraining (practitioners)
DESCRIPTION:Reflecteren en vooruit kijken. Dat staat deze avond centraal. Dit is de tweede en afsluitende training als vervolg op de basistraining Dialoog begeleiden. We kijken samen terug op de tijd waarin jij na de basistraining geoefend hebt en ervaring hebt opgedaan. Ieders ervaring is uniek en zeer waardevol. Daarom brengen we deze samen om te leren van elkaar.  \nLeren van elkaar\nReflecteren\, vooruitkijken en leren van en met elkaar. Dat staat deze avond centraal als vervolg op de basistraining Dialoog begeleiden en is bedoeld voor nieuwe en ervaren dialoogbegeleiders. \nDeze training is DE kans om een stukje verder te komen in je persoonlijke en professionele ontwikkeling als dialoogbegeleider. We kijken samen terug op de tijd waarin jij na de basistraining geoefend hebt en ervaring hebt opgedaan. (Of dat nou veel of weinig ervaring is\, maakt niet uit). Ieders ervaring is uniek en zeer waardevol. We leren van en met elkaar! \nProgramma \nHet programma ziet er globaal als volgt uit: \n\nCheck-in: wat is je leukste ervaring als dialoogbegeleider?\nIndividueel ontwikkelperspectief: waar sta jij in je ontwikkeling als dialoogbegeleider als het gaat om vakinhoudelijke kennis en vaardigheden\,\nomgaan met anderen en omgaan met jezelf?\nTheorie en reflectie: wat is professioneel gedrag\, wat is het verschil tussen een\ndialoog en discussie\, welke spelregels zijn van belang in een dialoog?\nIntervisie: aan de hand van eigen ervaringen in jullie dialogen. We gebruiken\neen ontwikkelingsgerichte intervisiemethode.\nTheorie: luisterniveaus (theorie u) en manieren van luisteren (Covey)\nKorte oefening en energizer\nEvaluatie: wat heb je nog nodig van jezelf en van anderen om je verder te\nontwikkelen als dialoogbegeleider?\n\nWie zijn de trainers\nDe training wordt verzorgd door ervaren dialoogbegeleiders en trainers die verbonden zijn aan Utrecht in Dialoog: Renske Douwes-Dekker en Brigit Linssen. Mensen met passie voor dialoog en brede ervaring in het luisteren\, begeleiden van dialogen en het verzorgen van trainingen voor Utrecht in Dialoog. \nKosten\n\nKosteloos voor deelnemers die de basistraining bij ons hebben gevolgd.\n€ 150\,- voor deelnemers die ergens anders zijn opgeleid.\n\nWe maken er een inspirerende bijeenkomst van en hopen op een hoge opkomst. Wil je\nmeedoen? Geef je dan snel op. \nBen je verhinderd?\nGeef het op tijd door via trainingen@utrechtindialoog.nl.\nAls je je aanmeldt\, rekenen we op jouw komst. \n\nBij afmeldingen tot uiterlijk 2 weken voor de training ontvang je jouw bijdrage retour.\nBinnen 1 week voor aanmelding ontvang je 50% van de bijdrage retour.\nAls je niet aanwezig bent en we hebben geen schriftelijke afmelding ontvangen\, kunnen we jouw bijdrage helaas niet teruggeven. Je kunt wel iemand anders in jouw plaats laten gaan.\n\nVragen\nHeb je nog vragen? Neem dan even contact op met Dorine: \nDorine Leenman-Pellegrom\nInterim Coordinator\nCo. Communicatie & Training\ntrainingen@utrechtindialoog.nl
URL:https://www.utrechtindialoog.nl/bijeenkomsten/verdiepingstraining-practitioners-4/
LOCATION:Grytte\, Maliebaan 45\, Utrecht\, 3581CD
CATEGORIES:Trainingen en workshops
GEO:52.0903636;5.1328686
X-APPLE-STRUCTURED-LOCATION;VALUE=URI;X-ADDRESS=Grytte Maliebaan 45 Utrecht 3581CD;X-APPLE-RADIUS=500;X-TITLE=Maliebaan 45:geo:5.1328686,52.0903636
END:VEVENT
END:VCALENDAR