BEGIN:VCALENDAR
VERSION:2.0
PRODID:-//Utrecht in Dialoog - ECPv6.15.20//NONSGML v1.0//EN
CALSCALE:GREGORIAN
METHOD:PUBLISH
X-ORIGINAL-URL:https://www.utrechtindialoog.nl
X-WR-CALDESC:Evenementen voor Utrecht in Dialoog
REFRESH-INTERVAL;VALUE=DURATION:PT1H
X-Robots-Tag:noindex
X-PUBLISHED-TTL:PT1H
BEGIN:VTIMEZONE
TZID:Europe/Amsterdam
BEGIN:DAYLIGHT
TZOFFSETFROM:+0100
TZOFFSETTO:+0200
TZNAME:CEST
DTSTART:20240331T010000
END:DAYLIGHT
BEGIN:STANDARD
TZOFFSETFROM:+0200
TZOFFSETTO:+0100
TZNAME:CET
DTSTART:20241027T010000
END:STANDARD
BEGIN:DAYLIGHT
TZOFFSETFROM:+0100
TZOFFSETTO:+0200
TZNAME:CEST
DTSTART:20250330T010000
END:DAYLIGHT
BEGIN:STANDARD
TZOFFSETFROM:+0200
TZOFFSETTO:+0100
TZNAME:CET
DTSTART:20251026T010000
END:STANDARD
BEGIN:DAYLIGHT
TZOFFSETFROM:+0100
TZOFFSETTO:+0200
TZNAME:CEST
DTSTART:20260329T010000
END:DAYLIGHT
BEGIN:STANDARD
TZOFFSETFROM:+0200
TZOFFSETTO:+0100
TZNAME:CET
DTSTART:20261025T010000
END:STANDARD
END:VTIMEZONE
BEGIN:VEVENT
DTSTART;TZID=Europe/Amsterdam:20251001T180000
DTEND;TZID=Europe/Amsterdam:20251001T200000
DTSTAMP:20260419T165337
CREATED:20250804T131147Z
LAST-MODIFIED:20250804T132445Z
UID:10000928-1759341600-1759348800@www.utrechtindialoog.nl
SUMMARY:Moving Freely
DESCRIPTION:A Dialogue on Physical Activity and Safety in Public Space\n\nJoin us for an open conversation about what it means to feel safe\, supported\, and free to move while being active in Utrecht’s public spaces. \nDeze pagina in het Nederlands \nOn 1 October\, just ahead of the Singelloop Utrecht – the city’s iconic running race – Run Her Way\, Gemeente Utrecht and Utrecht in Dialoog invite you to a community dialogue exploring physical activity and safety in public space. \nWhether you’re running\, cycling\, walking\, or staying active in parks and public spaces — everyone deserves to feel safe while moving through our city. But that’s not always the case. Through personal stories and group conversation\, we’ll explore how people experience physical activity in public space\, how safety (or the lack of it) shapes our choices\, and what each of us can do to create more welcoming environments for everyone — across genders\, roles\, and backgrounds. \nEvent Details\n\nDate: Wednesday 1 October 2025\nWalk in: 18:00h\nTime: 18:15 – 20:00h\nLocation: Stadskantoor\, Stadsplateau 1 Utrecht\nRoom: Floor 6\, Room V32\nLanguages: English and Dutch\nCost: Free\, registration required\n\nTalking together. Moving together. Creating safer public spaces together.\nWill you join us? Sign up today by clicking the red button above and be part of the dialogue. \nAccessibility\nThe Stadskantoor (Town Hall) is most easily reached by public transport. It’s located directly across Utrecht Centraal Station. Upon entering\, take the stairs\, elevator\, or escalator to the sixth floor. There’s no need to sign in to reception. \nQuestions?\nDo you have any questions? Please contact: straatintimidatie@utrecht.nl.
URL:https://www.utrechtindialoog.nl/bijeenkomsten/moving-freely/
LOCATION:Stadskantoor\, Stadsplateau 1\, Utrecht\, 3521 AZ\, Nederland
CATEGORIES:Dialogue meetings
GEO:52.0897457;5.1078802
X-APPLE-STRUCTURED-LOCATION;VALUE=URI;X-ADDRESS=Stadskantoor Stadsplateau 1 Utrecht 3521 AZ Nederland;X-APPLE-RADIUS=500;X-TITLE=Stadsplateau 1:geo:5.1078802,52.0897457
END:VEVENT
END:VCALENDAR